BEGIN:VCALENDAR
VERSION:2.0
PRODID:-//empfängnis.com - ECPv4.6.2//NONSGML v1.0//EN
CALSCALE:GREGORIAN
METHOD:PUBLISH
X-WR-CALNAME:empfängnis.com
X-ORIGINAL-URL:http://www.xn--empfngnis-y2a.com
X-WR-CALDESC:Events for empfängnis.com
BEGIN:VEVENT
DTSTART;TZID=Europe/Berlin:20180124T190000
DTEND;TZID=Europe/Berlin:20180124T210000
DTSTAMP:20260421T154744
CREATED:20171021T140901Z
LAST-MODIFIED:20171021T140935Z
UID:2016-1516820400-1516827600@www.xn--empfngnis-y2a.com
SUMMARY:4600 Wels\, NER Grundkurs (3 Teile)  G2
DESCRIPTION:Kursart: Grundkurs in drei Teilen \nTermine: G1 – Mittwoch\, 17.01.2018\, 19:00 – 21:00 ; G2 – Mittwoch\, 24.01.2018\, 19:00 – 21:00; G3 – Mittwoch\, 07.02.2018\, 19:00 – 21:00 \nAdresse: 4600 Wels\, Dragonerstraße 44 \nVeranstalter: EKiZ Klein und Groß \nAuskunft: EKiz Klein und Groß; Telefon: 0724255091; E-Mailekiz.wels@aon.at \nReferent(en): Irmgard Hackl & Dr.med Philipp Fellner \nBesonderes: Anmeldung erforderlich!\nKursbeitrag: € 40\,- p. Person\, € 50\,- p. PaarKurs – Nr.101357 \n
URL:http://www.xn--empfngnis-y2a.com/veranstaltung/4600-wels-ner-grundkurs-3-teile-g1-copy/
LOCATION:Dragonerstraße 44\, Wels\, 4600\, Österreich
GEO:48.1569698;14.0110176
X-APPLE-STRUCTURED-LOCATION;VALUE=URI;X-ADDRESS=Dragonerstraße 44 Wels 4600 Österreich;X-APPLE-RADIUS=500;X-TITLE=Dragonerstraße 44:geo:14.0110176,48.1569698
END:VEVENT
END:VCALENDAR