BEGIN:VCALENDAR
VERSION:2.0
PRODID:-//empfängnis.com - ECPv4.6.2//NONSGML v1.0//EN
CALSCALE:GREGORIAN
METHOD:PUBLISH
X-WR-CALNAME:empfängnis.com
X-ORIGINAL-URL:http://www.xn--empfngnis-y2a.com
X-WR-CALDESC:Events for empfängnis.com
BEGIN:VEVENT
DTSTART;TZID=Europe/Berlin:20171108T173000
DTEND;TZID=Europe/Berlin:20171108T213000
DTSTAMP:20260421T134729
CREATED:20171021T132149Z
LAST-MODIFIED:20171021T132149Z
UID:1988-1510162200-1510176600@www.xn--empfngnis-y2a.com
SUMMARY:4040 Linz\, Lebensphase Wechseljahre
DESCRIPTION:\n\n\nTermine\nMittwoch\, 08.11.2017\, 17:30 – 21:30\n\n\nAdresse\n4040 Linz\, Niedermayrweg 7\n\n\nVeranstalter\nARGE „Spuren im Leben“\n\n\nAuskunft\nKarin Lamplmair\nkontakt@spuren-im-leben.at\nwww.spuren-im-leben.at\n\n\nTelefon\n0664 8143611\n\n\nReferent(en)\nMonika Kastner\n\n\n\n
URL:http://www.xn--empfngnis-y2a.com/veranstaltung/4040-linz-lebensphase-wechseljahre/
LOCATION:Niedermayrweg 7\, Linz\, 4040\, Österreich
GEO:48.3308197;14.3156314
X-APPLE-STRUCTURED-LOCATION;VALUE=URI;X-ADDRESS=Niedermayrweg 7 Linz 4040 Österreich;X-APPLE-RADIUS=500;X-TITLE=Niedermayrweg 7:geo:14.3156314,48.3308197
END:VEVENT
END:VCALENDAR