BEGIN:VCALENDAR
VERSION:2.0
PRODID:-//empfängnis.com - ECPv4.6.2//NONSGML v1.0//EN
CALSCALE:GREGORIAN
METHOD:PUBLISH
X-WR-CALNAME:empfängnis.com
X-ORIGINAL-URL:http://www.xn--empfngnis-y2a.com
X-WR-CALDESC:Events for empfängnis.com
BEGIN:VEVENT
DTSTART;TZID=Europe/Berlin:20170517T193000
DTEND;TZID=Europe/Berlin:20170517T213000
DTSTAMP:20260421T152424
CREATED:20170407T105025Z
LAST-MODIFIED:20170407T105025Z
UID:1742-1495049400-1495056600@www.xn--empfngnis-y2a.com
SUMMARY:3531 Brand am Loschberg\, Grundkurs G1
DESCRIPTION:\n\n\nKursart\nKurs in 3 Teilen\n\n\nTermine\nG1 – Mittwoch\, 17.05.2017\, 19:30 – 21:30G2 – Dienstag\, 23.05.2017\, 19:30 – 21:30G3 – Mittwoch\, 07.06.2017\, 19:30 – 21:30\n\n\nAdresse\n3531 Brand am Loschberg\, Werschenschlag 11 (bei Familie Heider)\n\n\nVeranstalter\nPastorale Dienste\, Bereich Familie\n\n\nAuskunft\nAngela Hiesinger\n\n\nTelefon\n02742/324/3339\n\n\nE-Mail\na.hiesinger@kirche.at\n\n\nReferent(en)\nElisabeth Brandstetter\n\n\nBesonderes\nAnmeldung erforderlich!\n\n\n\n
URL:http://www.xn--empfngnis-y2a.com/veranstaltung/3531-brand-am-loschberg-grundkurs-g1/
LOCATION: Werschenschlag 11 \,  Brand am Loschberg\, 3531\, Österreich
GEO:48.5609043;15.3143184
X-APPLE-STRUCTURED-LOCATION;VALUE=URI;X-ADDRESS=Werschenschlag 11   Brand am Loschberg 3531 Österreich;X-APPLE-RADIUS=500;X-TITLE=Werschenschlag 11:geo:15.3143184,48.5609043
END:VEVENT
END:VCALENDAR