BEGIN:VCALENDAR
VERSION:2.0
PRODID:-//empfängnis.com - ECPv4.6.2//NONSGML v1.0//EN
CALSCALE:GREGORIAN
METHOD:PUBLISH
X-WR-CALNAME:empfängnis.com
X-ORIGINAL-URL:http://www.xn--empfngnis-y2a.com
X-WR-CALDESC:Events for empfängnis.com
BEGIN:VEVENT
DTSTART;TZID=Europe/Berlin:20190915T190000
DTEND;TZID=Europe/Berlin:20190915T210000
DTSTAMP:20260420T125218
CREATED:20190913T091630Z
LAST-MODIFIED:20190913T091630Z
UID:2516-1568574000-1568581200@www.xn--empfngnis-y2a.com
SUMMARY:3443 Sieghartskirchen - Pille\, Spirale & Co. Gibt es Alternativen?
DESCRIPTION:3443 Sieghartskirchen – Pille\, Spirale & Co. Gibt es Alternativen? \nVortrag über Natürliche Empfängnisregelung als Alternative – einfach genial weil sympto thermal \n\n\n\nKursart\nInformationsabend\n\n\nTermine\nINFO – Dienstag\, 15.10.2019\, 19:00 – 20:30\n\n\nAdresse\n3443 Sieghartskirchen\, Rotes Kreuz\, Karl Bergerplatz 5\n\n\nVeranstalter\nFachstelle Beziehung Ehe und Familie\,\n\n\nAuskunft\nAngela Hiesinger\n\n\nTelefon\n02742/324/3339\n\n\nE-Mail\na.hiesinger@kirche.at\n\n\nReferent(en)\nDr. Barbara Sauberer\, Biologin\nAngela Hiesinger\n\n\nBesonderes\nAnmeldung erforderlich!\nEintritt frei!\n\n\n\n
URL:http://www.xn--empfngnis-y2a.com/veranstaltung/3443-sieghartskirchen-pille-spirale-co-gibt-es-alternativen/
LOCATION:Karl Berger Platz 5\, Sieghartskirchen\, 3443\, Österreich
GEO:48.253855;16.013985
X-APPLE-STRUCTURED-LOCATION;VALUE=URI;X-ADDRESS=Karl Berger Platz 5 Sieghartskirchen 3443 Österreich;X-APPLE-RADIUS=500;X-TITLE=Karl Berger Platz 5:geo:16.013985,48.253855
END:VEVENT
END:VCALENDAR