BEGIN:VCALENDAR
VERSION:2.0
PRODID:-//empfängnis.com - ECPv4.6.2//NONSGML v1.0//EN
CALSCALE:GREGORIAN
METHOD:PUBLISH
X-WR-CALNAME:empfängnis.com
X-ORIGINAL-URL:http://www.xn--empfngnis-y2a.com
X-WR-CALDESC:Events for empfängnis.com
BEGIN:VEVENT
DTSTART;TZID=Europe/Berlin:20170826T143000
DTEND;TZID=Europe/Berlin:20170826T173000
DTSTAMP:20260421T151856
CREATED:20170804T075642Z
LAST-MODIFIED:20170804T075720Z
UID:1816-1503757800-1503768600@www.xn--empfngnis-y2a.com
SUMMARY:3343 Hollenstein/Ybbs - Grundkurs NER Kopieren Kopieren
DESCRIPTION:Wann? Samstag\, 12. August 2017 u. 26. August 2017\, jeweils von 14.30 bis 17.30Uhr! Wo? Gasthaus Jagersberger\, Sattel 4\, 3343 Hollenstein/Y. \nReferenten: Elisabeth und Johannes Hackl zertifizierte Mitarbeiter im Institut für Natürliche EmpfängnisRegelung nach Prof. Dr. med. Josef Rötzer\, www.iner.org \nNatürliche Empfängnisregelung fördert eine positive Einstellung zum Körper und Zyklus den bewussten Umgang mit der eigenen Fruchtbarkeit das partnerschaftliche Gespräch über Sexualität und ist eine echte Alternative zu „Pille\, Spirale & Co“!\nNER kommt dem Trend zur Natürlichkeit\, besonders auch im Bereich der Medikation\, nach. Die sympto-thermale Methode ist eine gesunde und sichere Alternative zu allen gängigen Verhütungsmitteln – und ganz ohne Chemie. Die Verlässlichkeit beim gut instruierten Paar übertrifft dabei jene der Pille. Bei Kinderwunsch hilft die NER die fruchtbare Zeit zu bestimmen!\nTeilnahmebeitrag incl. Kursmaterial und Buch!: € 65\,00 p.Paar\, € 60\,00 p.Person\, Ermäßigung für SchülerInnen und StudentInnen € 45\,00 Anmeldung: Pastorale Dienste / Diözese St. Pölten / Bereich Familie\,     Angela Hiesinger\, Tel.: 02742/324 DW 3339     E-Mail: a.hiesinger@kirche.at \n
URL:http://www.xn--empfngnis-y2a.com/veranstaltung/3343-hollensteinybbs-grundkurs-ner-copy-2-copy/
LOCATION:Sattel 4\, Hollenstein/Y.\, 3343\, Österreich
GEO:47.7919316;14.7958746
X-APPLE-STRUCTURED-LOCATION;VALUE=URI;X-ADDRESS=Sattel 4 Hollenstein/Y. 3343 Österreich;X-APPLE-RADIUS=500;X-TITLE=Sattel 4:geo:14.7958746,47.7919316
END:VEVENT
END:VCALENDAR