BEGIN:VCALENDAR
VERSION:2.0
PRODID:-//empfängnis.com - ECPv4.6.2//NONSGML v1.0//EN
CALSCALE:GREGORIAN
METHOD:PUBLISH
X-WR-CALNAME:empfängnis.com
X-ORIGINAL-URL:http://www.xn--empfngnis-y2a.com
X-WR-CALDESC:Events for empfängnis.com
BEGIN:VEVENT
DTSTART;TZID=Europe/Berlin:20191110T100000
DTEND;TZID=Europe/Berlin:20191110T123000
DTSTAMP:20260420T164603
CREATED:20191016T082703Z
LAST-MODIFIED:20191016T082703Z
UID:2535-1573380000-1573389000@www.xn--empfngnis-y2a.com
SUMMARY:3233 Kilb\, Grundkurs in zwei Teilen
DESCRIPTION:\n\n\nKursart\nFolgetermin: wird vor Ort festgelegt. sympto thermale Methode nach Prof. Dr. Josef Rötzer\n\n\nTermine\nG1 – Sonntag\, 10.11.2019\, 10:00 – 12:30\n\n\nAdresse\n3233 Kilb\, Gesunde Gemeinde\, Marktplatz 4\,\n\n\nVeranstalter\nFachstelle Beziehung Ehe und Familie\n\n\nAuskunft\nAngela Hiesinger\n\n\nTelefon\n02742/324/3339\n\n\nE-Mail\na.hiesinger@kirche.at\n\n\nReferent(en)\nMaria Fuchsluger\n\n\nBesonderes\nAnmeldung erforderlich!\nKursbeitrag p.P.: €80\,00 inkl. Kursunterlagen\, Buch und Thermometer\, p. Paar €85\,00 Ermäßigung f. SchülerInnen und StudentInnen € 65\,00\n\n\n\n
URL:http://www.xn--empfngnis-y2a.com/veranstaltung/3233-kilb-grundkurs-in-zwei-teilen/
LOCATION:Gemeindeamt\, Kilb\, 3233\, Österreich
END:VEVENT
END:VCALENDAR