BEGIN:VCALENDAR
VERSION:2.0
PRODID:-//empfängnis.com - ECPv4.6.2//NONSGML v1.0//EN
CALSCALE:GREGORIAN
METHOD:PUBLISH
X-WR-CALNAME:empfängnis.com
X-ORIGINAL-URL:http://www.xn--empfngnis-y2a.com
X-WR-CALDESC:Events for empfängnis.com
BEGIN:VEVENT
DTSTART;TZID=Europe/Berlin:20170918T193000
DTEND;TZID=Europe/Berlin:20170918T210000
DTSTAMP:20260421T090349
CREATED:20170404T100739Z
LAST-MODIFIED:20170907T085009Z
UID:1675-1505763000-1505768400@www.xn--empfngnis-y2a.com
SUMMARY:3100 St. Pölten "Pille\, Spirale & Co. Gibt es Alternativen?" Was tut sich im männlichen bzw. weiblichen Zyklus bzgl. Fruchtbarkeit?
DESCRIPTION:Kursart Informationsabend\nTermine\nINFO – Montag\, 18.09.2017\, 19:30 – 21:00\nAdresse 3100 St. Pölten\, Klostergasse 15\, Pastorale Dienste\, F.Z.Saal\nVeranstalter Fachstelle Beziehung-Ehe-Familie\nAuskunft Angela Hiesinger\nTelefon 02742/324/3339\nE-Mail a.hiesinger@kirche.at\nReferent(en) Dr. Barbara M. und Mag. Arno Sauberer\nAnmeldung erbeten! Eintritt frei! Kurzentschlossene sind herzlich willkommen! \n
URL:http://www.xn--empfngnis-y2a.com/veranstaltung/3100-st-poelten-pille-spirale-co-gibt-es-alternativen-was-tut-sich-im-maennlichen-bzw-weiblichen-zyklus-bzgl-fruchtbarkeit/
LOCATION:Klostergasse 15\, St. Pölten\, 3100\, Österreich
GEO:48.2067871;15.6265436
X-APPLE-STRUCTURED-LOCATION;VALUE=URI;X-ADDRESS=Klostergasse 15 St. Pölten 3100 Österreich;X-APPLE-RADIUS=500;X-TITLE=Klostergasse 15:geo:15.6265436,48.2067871
END:VEVENT
END:VCALENDAR