BEGIN:VCALENDAR
VERSION:2.0
PRODID:-//empfängnis.com - ECPv4.6.2//NONSGML v1.0//EN
CALSCALE:GREGORIAN
METHOD:PUBLISH
X-WR-CALNAME:empfängnis.com
X-ORIGINAL-URL:http://www.xn--empfngnis-y2a.com
X-WR-CALDESC:Events for empfängnis.com
BEGIN:VEVENT
DTSTART;TZID=Europe/Berlin:20190518T090000
DTEND;TZID=Europe/Berlin:20190518T170000
DTSTAMP:20260420T182756
CREATED:20190504T155722Z
LAST-MODIFIED:20190504T155722Z
UID:2447-1558170000-1558198800@www.xn--empfngnis-y2a.com
SUMMARY:3100 St. Pölten\, NER Tageskurs
DESCRIPTION:\n\n\nGT – Samstag\, 18.05.2019\, 09:00 – 17:00\n\n\nAdresse\n3100 St. Pölten\, Klostergasse 15\n\n\nVeranstalter\nFachstelle Beziehung Ehe und Familie\n\n\nAuskunft\nAngela Hiesinger\n\n\nTelefon\n02742/324/3339\n\n\nE-Mail\na.hiesinger@kirche.at\n\n\nReferent(en)\nAngela Hiesinger u. Dr. Barbara M. Sauberer\, Biologin\n\n\nBesonderes\nAnmeldung erforderlich!\nKosten: € 65\,00 p. Paar\, € 60\,00 p. Person incl. Kursunterlagen und Buch!\n€ 45\,00 f. Schülerinnen und StudentInnen\n\n\n\n
URL:http://www.xn--empfngnis-y2a.com/veranstaltung/3100-st-poelten-ner-tageskurs/
LOCATION:Klostergasse 15\, St. Pölten\, 3100\, Österreich
GEO:48.2067871;15.6265436
X-APPLE-STRUCTURED-LOCATION;VALUE=URI;X-ADDRESS=Klostergasse 15 St. Pölten 3100 Österreich;X-APPLE-RADIUS=500;X-TITLE=Klostergasse 15:geo:15.6265436,48.2067871
END:VEVENT
END:VCALENDAR