BEGIN:VCALENDAR
VERSION:2.0
PRODID:-//empfängnis.com - ECPv4.6.2//NONSGML v1.0//EN
CALSCALE:GREGORIAN
METHOD:PUBLISH
X-WR-CALNAME:empfängnis.com
X-ORIGINAL-URL:http://www.xn--empfngnis-y2a.com
X-WR-CALDESC:Events for empfängnis.com
BEGIN:VEVENT
DTSTART;TZID=Europe/Berlin:20180113T090000
DTEND;TZID=Europe/Berlin:20180113T180000
DTSTAMP:20260421T170959
CREATED:20171021T141425Z
LAST-MODIFIED:20171021T141837Z
UID:2022-1515834000-1515866400@www.xn--empfngnis-y2a.com
SUMMARY:3100 St. Pölten\, Aufbaulehrgang NER; A5
DESCRIPTION:\n\n\nKursart\nAufbaulehrgang\n\n\nTermine\nA1 – Samstag\, 30.09.2017\, 09:00 – 18:00A2 – Samstag\, 21.10.2017\, 09:00 – 18:00A3 – Samstag\, 11.11.2017\, 09:00 – 18:00A4 – Samstag\, 02.12.2017\, 09:00 – 18:00A5 – Samstag\, 13.01.2018\, 09:00 – 18:00A6 – Samstag\, 17.02.2018\, 09:00 – 18:00A7 – Samstag\, 10.03.2018\, 09:00 – 18:00A7 – Sonntag\, 11.03.2018\, 09:00 – 17:00\n\n\nAdresse\n3100 St. Pölten\, Klostergasse 15\, Pastorale Dienste\, Florian Zimmel-Saal\n\n\nVeranstalter\nPastorale Dienste\, Fachstelle Beziehung Ehe und Familie\n\n\nAuskunft\nAngela Hiesinger\, Pastorale Dienste\n\n\nTelefon\n02742/324/3339\n\n\nE-Mail\na.hiesinger@kirche.at\n\n\nReferent(en)\nElisabeth und Josef Weinlich\, Dr. Karin Kroboth-Svoboda\, BV Dr. Helmut Prader und Elisabeth Rötzer\n\n\nBesonderes\nAnmeldung erforderlich!\nKursbeitrag: Einzelperson € 260\,- Ehepaar € 320\,-\ninkl. Kursmaterial\nINER-Mitglieder: Einzelperson € 200\,.- Ehepaar € 250\,-\n(Ratenzahlung und Ermäßigung auf Anfrage)\n\n\n\n
URL:http://www.xn--empfngnis-y2a.com/veranstaltung/3100-st-poelten-aufbaulehrgang-ner-a3-copy/
LOCATION:Klostergasse 15\, Sankt Pölten\, 3100\, Österreich
GEO:48.2067871;15.6265436
X-APPLE-STRUCTURED-LOCATION;VALUE=URI;X-ADDRESS=Klostergasse 15 Sankt Pölten 3100 Österreich;X-APPLE-RADIUS=500;X-TITLE=Klostergasse 15:geo:15.6265436,48.2067871
END:VEVENT
END:VCALENDAR