BEGIN:VCALENDAR
VERSION:2.0
PRODID:-//empfängnis.com - ECPv4.6.2//NONSGML v1.0//EN
CALSCALE:GREGORIAN
METHOD:PUBLISH
X-WR-CALNAME:empfängnis.com
X-ORIGINAL-URL:http://www.xn--empfngnis-y2a.com
X-WR-CALDESC:Events for empfängnis.com
BEGIN:VEVENT
DTSTART;TZID=Europe/Berlin:20180216T193000
DTEND;TZID=Europe/Berlin:20180216T210000
DTSTAMP:20260421T154848
CREATED:20171021T130404Z
LAST-MODIFIED:20171021T130404Z
UID:1974-1518809400-1518814800@www.xn--empfngnis-y2a.com
SUMMARY:3042 Würmla\, Info: Pille\, Spirale und Co - Gibt es dazu Alternativen?
DESCRIPTION:\n\n\nKursart\nVortrag: Pille\, Spirale und Co – Gibt es dazu Alternativen?\n\n\nTermine\nINFO – Freitag\, 16.02.2018\, 19:30 – 21:00\n\n\nAdresse\n3042 Würmla\, Pfarrheim\, Kirchenplatz 2\n\n\nVeranstalter\nKBW Würmla und Fachstelle Beziehung Ehe und Familie St. Pölten\n\n\nAuskunft\nAngela Hiesinger\n\n\nTelefon\n02742/324/3339\n\n\nE-Mail\na.hiesinger@kirche.at\n\n\nReferent(en)\nElisabeth und Johannes Hackl\n\n\nBesonderes\nAnmeldung nicht erforderlich! Kein Eintritt!\n\n\n\n
URL:http://www.xn--empfngnis-y2a.com/veranstaltung/3042-wuermla-info-pille-spirale-und-co-gibt-es-dazu-alternativen/
LOCATION:Kirchenplatz 2\, Würmla\, 3042\, Österreich
GEO:48.2551927;15.8591865
X-APPLE-STRUCTURED-LOCATION;VALUE=URI;X-ADDRESS=Kirchenplatz 2 Würmla 3042 Österreich;X-APPLE-RADIUS=500;X-TITLE=Kirchenplatz 2:geo:15.8591865,48.2551927
END:VEVENT
END:VCALENDAR