BEGIN:VCALENDAR
VERSION:2.0
PRODID:-//empfängnis.com - ECPv4.6.2//NONSGML v1.0//EN
CALSCALE:GREGORIAN
METHOD:PUBLISH
X-WR-CALNAME:empfängnis.com
X-ORIGINAL-URL:http://www.xn--empfngnis-y2a.com
X-WR-CALDESC:Events for empfängnis.com
BEGIN:VEVENT
DTSTART;TZID=Europe/Berlin:20190118T170000
DTEND;TZID=Europe/Berlin:20190120T130000
DTSTAMP:20260420T220024
CREATED:20181219T095430Z
LAST-MODIFIED:20181219T095430Z
UID:2331-1547830800-1547989200@www.xn--empfngnis-y2a.com
SUMMARY:2er Wochenende
DESCRIPTION:  \nWochenende für Paare \nwo die Kindererziehung großteils abgeschlossen ist\, \ndie ihre Berufung zur Ehe wieder neu entfalten wollen \nfür die ein neuer Lebensabschnitt beginnt \ndie jetzt mehr Zeit für neue Augaben haben \ndie gute Schwiegereltern und Großeltern sein wollen! \n  \nTermin: 18. – 20. Jänner 2019\, Neuhofen a.d.Ybbs \nProgramm Fr 17:00- So 13:00 \ntägl Hl. Messe\, Anbetung\, Vorträge\, Impulse\, Paargesprächeetc. \nUnterkunft in den umliegenden Gasthöfe zu buchen und zu zahlen. \nTeilnahmegebühr inkl Mittag und Abendessen pro Paar   190 Euro \n  \nICF Initiative Christliche Familie \nPfarrer Dr. Helmut Prader \nTel: 0664 2315436 \nAmeldung bis 22.12.2018 an: pfarre.neuhofen@gmx.at oder 0664/2315436 \n  \n  \n
URL:http://www.xn--empfngnis-y2a.com/veranstaltung/2er-wochenende/
LOCATION:Millenniumsplatz 2\, Neuhofen/ Ybbs\, 3364\, Österreich
END:VEVENT
END:VCALENDAR