BEGIN:VCALENDAR
VERSION:2.0
PRODID:-//empfängnis.com - ECPv4.6.2//NONSGML v1.0//EN
CALSCALE:GREGORIAN
METHOD:PUBLISH
X-WR-CALNAME:empfängnis.com
X-ORIGINAL-URL:http://www.xn--empfngnis-y2a.com
X-WR-CALDESC:Events for empfängnis.com
BEGIN:VEVENT
DTSTART;TZID=Europe/Berlin:20171019T190000
DTEND;TZID=Europe/Berlin:20171019T210000
DTSTAMP:20260421T151320
CREATED:20170927T090203Z
LAST-MODIFIED:20170927T090203Z
UID:1952-1508439600-1508446800@www.xn--empfngnis-y2a.com
SUMMARY:2340 Mödling\, NER Grundkurs in 3 Teilen
DESCRIPTION:\n\n\nGrundkurs in 3 Teilen\n\n\nTermine\nG1 – Donnerstag\, 19.10.2017\, 19:00 – 21:00\n\n\nAdresse\n2340 Mödling\, Spechtgasse 16\n\n\nVeranstalter\nINER\n\n\nAuskunft\nBei der Referentin\n\n\nTelefon\n0664 11 88 721\n\n\nE-Mail\nbarbara@notar-sauberer.at\n\n\nReferent(en)\nDr. Barbara M. Sauberer\, barbara@notar-sauberer.at\n\n\nBesonderes\nAnmeldung bei der Referentin unbedingt erforderlich!\nKursbeitrag inkl. Kursunterlagen und Buch:\n€ 65.- pro Paar\n€ 60.- pro Person\n€ 45.- pro Student/in\n\n\n\n
URL:http://www.xn--empfngnis-y2a.com/veranstaltung/2340-moedling-ner-grundkurs-in-3-teilen/
LOCATION:Spechtgasse 16\, Mödling\, 2340\, Österreich
GEO:48.0813715;16.2903919
X-APPLE-STRUCTURED-LOCATION;VALUE=URI;X-ADDRESS=Spechtgasse 16 Mödling 2340 Österreich;X-APPLE-RADIUS=500;X-TITLE=Spechtgasse 16:geo:16.2903919,48.0813715
END:VEVENT
END:VCALENDAR