BEGIN:VCALENDAR
VERSION:2.0
PRODID:-//empfängnis.com - ECPv4.6.2//NONSGML v1.0//EN
CALSCALE:GREGORIAN
METHOD:PUBLISH
X-WR-CALNAME:empfängnis.com
X-ORIGINAL-URL:http://www.xn--empfngnis-y2a.com
X-WR-CALDESC:Events for empfängnis.com
BEGIN:VEVENT
DTSTART;TZID=Europe/Berlin:20160530T190000
DTEND;TZID=Europe/Berlin:20160530T210000
DTSTAMP:20260422T033239
CREATED:20160516T163414Z
LAST-MODIFIED:20160516T163414Z
UID:918-1464634800-1464642000@www.xn--empfngnis-y2a.com
SUMMARY:2340 Mödling - Grundkurs Natürliche Empfängnisregelung
DESCRIPTION:
URL:http://www.xn--empfngnis-y2a.com/veranstaltung/2340-moedling-grundkurs-natuerliche-empfaengnisregelung/
LOCATION:Spechtgasse 16\, Mödling\, 2340\, Österreich
GEO:48.0813715;16.2903919
X-APPLE-STRUCTURED-LOCATION;VALUE=URI;X-ADDRESS=Spechtgasse 16 Mödling 2340 Österreich;X-APPLE-RADIUS=500;X-TITLE=Spechtgasse 16:geo:16.2903919,48.0813715
ORGANIZER;CN="Unbenannte%28r%29%20Veranstalter":MAILTO:barbara@notar-sauberer.at
END:VEVENT
END:VCALENDAR