BEGIN:VCALENDAR
VERSION:2.0
PRODID:-//empfängnis.com - ECPv4.6.2//NONSGML v1.0//EN
CALSCALE:GREGORIAN
METHOD:PUBLISH
X-WR-CALNAME:empfängnis.com
X-ORIGINAL-URL:http://www.xn--empfngnis-y2a.com
X-WR-CALDESC:Events for empfängnis.com
BEGIN:VEVENT
DTSTART;TZID=Europe/Berlin:20170612T190000
DTEND;TZID=Europe/Berlin:20170612T210000
DTSTAMP:20260421T134933
CREATED:20170404T095413Z
LAST-MODIFIED:20170404T100237Z
UID:1662-1497294000-1497301200@www.xn--empfngnis-y2a.com
SUMMARY:1210 NER Grundkurs in drei Teilen
DESCRIPTION:Termine\nG1 – Montag\, 12.06.2017\, 19:00 – 21:00\nG2 – Montag\, 03.07.2017\, 19:00 – 21:00\nG3 – Montag\, 04.09.2017\, 19:00 – 21:00\nAdresse	1210 Wien\, Kinzer Platz 19\, Seelsorgeräume der Pfarre Donaufeld\nVeranstalter	INER\nAuskunft	und Anmeldung: Familie Weinlich: E-Mail: inerwien@hotmail.com\, Tel.:01/272 13 52\nReferent(en)	Elisabeth und Josef Weinlich\nBesonderes	Anmeldung erfolderlich\, Kursbeitrag: €60\,50 pro Person\, €65\,50 pro Paar\, inkl. umfangreiche Kursunterlagen und Buch \n
URL:http://www.xn--empfngnis-y2a.com/veranstaltung/1210-ner-grundkurs-in-drei-teilen/
LOCATION:Kinzer Platz 19\, Wien\, 1210\, Österreich
GEO:48.2523957;16.4079659
X-APPLE-STRUCTURED-LOCATION;VALUE=URI;X-ADDRESS=Kinzer Platz 19 Wien 1210 Österreich;X-APPLE-RADIUS=500;X-TITLE=Kinzer Platz 19:geo:16.4079659,48.2523957
END:VEVENT
END:VCALENDAR