BEGIN:VCALENDAR
VERSION:2.0
PRODID:-//empfängnis.com - ECPv4.6.2//NONSGML v1.0//EN
CALSCALE:GREGORIAN
METHOD:PUBLISH
X-WR-CALNAME:empfängnis.com
X-ORIGINAL-URL:http://www.xn--empfngnis-y2a.com
X-WR-CALDESC:Events for empfängnis.com
BEGIN:VEVENT
DTSTART;TZID=Europe/Berlin:20170929T013000
DTEND;TZID=Europe/Berlin:20170929T033000
DTSTAMP:20260421T134907
CREATED:20170825T103914Z
LAST-MODIFIED:20170907T085754Z
UID:1837-1506648600-1506655800@www.xn--empfngnis-y2a.com
SUMMARY:Haag: NER Grundkurs in drei Teilen
DESCRIPTION:Natürliche Empfängnisregelung fördert eine positive Einstellung zum Körper und Zyklus den bewussten Umgang mit der eigenen Fruchtbarkeit das partnerschaftliche Gespräch über Sexualität und ist eine echte Alternative zu „Pille\, Spirale & Co“! Denn die NER beruht auf der wissenschaftlich gesicherten Tatsache\, dass im Zyklus der Frau die meisten Tage unfruchtbar sind. Bei Kinderwunsch hilft die NER die fruchtbare Zeit zu bestimmen! \nTermine\nG1 – Freitag\, 29.9.2017\,\nG2 – Freitag\, 6.10.2017\,\nG3 – Freitag\, 27.10.2017\, jeweils 19.30 bis 22.00 \nAdresse: A-3350 Haag\, Hauptplatz 1\, Eltern-Kind-Familienzentrum \nReferentin: Elisabeth Brandstetter\, zertifizierte Mitarbeiterin im Institut für Natürliche Empfängnisregelung nach Prof. Dr. med. Josef Rötzer\, www.iner.org \nKursbeitrag incl. Kursunterlagen und Buch: p. Person € 60\,00 (f. EKIFAZ-Mitglieder € 51\,00)\, p. Paar € 65\,00 (f. Mitgl. € 55\,00). Ermäßigung f. SchülerInnen und StudentInnen: € 45\,00 (f. Mitgl. € 38\,00)\nAnmeldung: Pastorale Dienste / Diözese St. Pölten / Bereich Familie\,     Angela Hiesinger\, Tel.: 02742/324 DW 3339     E-Mail: a.hiesinger@kirche.at \n  \n
URL:http://www.xn--empfngnis-y2a.com/veranstaltung/1210-ner-grundkurs-in-drei-teilen-copy-copy-2-copy-copy/
LOCATION:Hauptplatz 1\, Haag\, 3350\, Österreich
GEO:48.1121074;14.5658083
X-APPLE-STRUCTURED-LOCATION;VALUE=URI;X-ADDRESS=Hauptplatz 1 Haag 3350 Österreich;X-APPLE-RADIUS=500;X-TITLE=Hauptplatz 1:geo:14.5658083,48.1121074
END:VEVENT
END:VCALENDAR