BEGIN:VCALENDAR
VERSION:2.0
PRODID:-//empfängnis.com - ECPv4.6.2//NONSGML v1.0//EN
CALSCALE:GREGORIAN
METHOD:PUBLISH
X-WR-CALNAME:empfängnis.com
X-ORIGINAL-URL:http://www.xn--empfngnis-y2a.com
X-WR-CALDESC:Events for empfängnis.com
BEGIN:VEVENT
DTSTART;TZID=Europe/Berlin:20171007T100000
DTEND;TZID=Europe/Berlin:20171007T120000
DTSTAMP:20260421T134908
CREATED:20170825T104440Z
LAST-MODIFIED:20170825T104635Z
UID:1840-1507370400-1507377600@www.xn--empfngnis-y2a.com
SUMMARY:Tulln: Auffrischungstreffen NER
DESCRIPTION:Termin: Sa.\, 7. Oktober 2017\, 10 bis 12 Uhr \nAdresse: 3430 Tulln\, Junges Hotel – bitte anmelden \nReferent(en): Elisabeth u. Johannes Hackl \n
URL:http://www.xn--empfngnis-y2a.com/veranstaltung/1210-ner-grundkurs-in-drei-teilen-copy-copy-2-copy-copy-2/
LOCATION:Marc Aurel-Park 1\, Tulln\, Niederösterreich\, 3430\, Österreich
GEO:48.3329694;16.057221
X-APPLE-STRUCTURED-LOCATION;VALUE=URI;X-ADDRESS=Marc Aurel-Park 1 Tulln Niederösterreich 3430 Österreich;X-APPLE-RADIUS=500;X-TITLE=Marc Aurel-Park 1:geo:16.057221,48.3329694
END:VEVENT
END:VCALENDAR