BEGIN:VCALENDAR
VERSION:2.0
PRODID:-//empfängnis.com - ECPv4.6.2//NONSGML v1.0//EN
CALSCALE:GREGORIAN
METHOD:PUBLISH
X-WR-CALNAME:empfängnis.com
X-ORIGINAL-URL:http://www.xn--empfngnis-y2a.com
X-WR-CALDESC:Events for empfängnis.com
BEGIN:VEVENT
DTSTART;TZID=Europe/Berlin:20171106T190000
DTEND;TZID=Europe/Berlin:20171106T210000
DTSTAMP:20260421T121944
CREATED:20170907T091957Z
LAST-MODIFIED:20170907T093629Z
UID:1899-1509994800-1510002000@www.xn--empfngnis-y2a.com
SUMMARY:St. Pölten: Einfach genial- Symptothermal! NER Grundkurs in drei Teilen
DESCRIPTION:Termine\nG1 – Montag\, 25.9.2017\, 19:00 – 21:00\nG2 – Montag\, 16.10.2017\, 19:00 – 21:00\nG3 – Montag\, 06.11.2017\, 19:00 – 21:00 \nNatürliche Empfängnisregelung fördert eine positive Einstellung zum Körper und Zyklus den bewussten Umgang mit der eigenen Fruchtbarkeit das partnerschaftliche Gespräch über Sexualität und ist eine echte Alternative zu „Pille\, Spirale & Co“! \nReferenten: Dr. Barbara und Mag. Arno Sauberer\, zertifizierte Mitarbeiter im Institut für Natürliche EmpfängnisRegelung nach Prof. Dr. med. Josef Rötzer\, www.iner.org \nAdresse: Pastorale Dienste\, St. Pölten\, Klostergasse 15 \nTeilnahmebeitrag incl. Kursmaterial und Buch!: € . 65\,- p.Paar\, € 60 p.P.\, Ermäßigung für SchülerInnen und StudentInnen €  45\,00 \nAnmeldung: Pastorale Dienste / Diözese St. Pölten / Bereich Familie\,     Angela Hiesinger\, Tel.: 02742/324 DW 3339     E-Mail: a.hiesinger@kirche.at \n
URL:http://www.xn--empfngnis-y2a.com/veranstaltung/1210-ner-grundkurs-in-drei-teilen-copy-copy-2-copy-2/
LOCATION:Klostergasse 15\, Sankt Pölten\, 3100\, Österreich
GEO:48.2067871;15.6265436
X-APPLE-STRUCTURED-LOCATION;VALUE=URI;X-ADDRESS=Klostergasse 15 Sankt Pölten 3100 Österreich;X-APPLE-RADIUS=500;X-TITLE=Klostergasse 15:geo:15.6265436,48.2067871
END:VEVENT
END:VCALENDAR