BEGIN:VCALENDAR
VERSION:2.0
PRODID:-//empfängnis.com - ECPv4.6.2//NONSGML v1.0//EN
CALSCALE:GREGORIAN
METHOD:PUBLISH
X-WR-CALNAME:empfängnis.com
X-ORIGINAL-URL:http://www.xn--empfngnis-y2a.com
X-WR-CALDESC:Events for empfängnis.com
BEGIN:VEVENT
DTSTART;TZID=Europe/Berlin:20171023T190000
DTEND;TZID=Europe/Berlin:20171023T210000
DTSTAMP:20260421T185312
CREATED:20170927T085407Z
LAST-MODIFIED:20170927T085445Z
UID:1947-1508785200-1508792400@www.xn--empfngnis-y2a.com
SUMMARY:1210\, NER Grundkurs in 3 Teilen
DESCRIPTION:\n\n\nG1 – Montag\, 02.10.2017\, 19:00 – 21:00  G2 – Montag\, 23.10.2017\, 19:00 – 21:00  G3 – Montag\, 13.11.2017\, 19:00 – 21:00\n\n\nAdresse\n1210 Wien\, Kinzer Platz 19\, Seelsorgeräume der Pfarre Donaufeld\n\n\nVeranstalter\nINER\n\n\nAuskunft\nund Anmeldung: Familie Weinlich: E-Mail: inerwien@hotmail.com\, Tel.:01/272 13 52\n\n\nReferent(en)\nElisabeth und Josef Weinlich\n\n\nBesonderes\nAnmeldung erfolderlich\, Kursbeitrag: €60\,50 pro Person\, €65\,50 pro Paar\, inkl. umfangreiche Kursunterlagen und Buch\n\n\n\n\n\n\n\n
URL:http://www.xn--empfngnis-y2a.com/veranstaltung/1210-ner-grundkurs-in-3-teilen-copy/
LOCATION:Kinzerplatz 19\, Wien\, 1210\, Österreich
GEO:48.2523957;16.4079659
X-APPLE-STRUCTURED-LOCATION;VALUE=URI;X-ADDRESS=Kinzerplatz 19 Wien 1210 Österreich;X-APPLE-RADIUS=500;X-TITLE=Kinzerplatz 19:geo:16.4079659,48.2523957
END:VEVENT
END:VCALENDAR