BEGIN:VCALENDAR
VERSION:2.0
PRODID:-//empfängnis.com - ECPv4.6.2//NONSGML v1.0//EN
CALSCALE:GREGORIAN
METHOD:PUBLISH
X-WR-CALNAME:empfängnis.com
X-ORIGINAL-URL:http://www.xn--empfngnis-y2a.com
X-WR-CALDESC:Events for empfängnis.com
BEGIN:VEVENT
DTSTART;TZID=Europe/Berlin:20180924T190000
DTEND;TZID=Europe/Berlin:20180924T210000
DTSTAMP:20260421T020526
CREATED:20180928T102248Z
LAST-MODIFIED:20180928T102342Z
UID:2232-1537815600-1537822800@www.xn--empfngnis-y2a.com
SUMMARY:1210\, NER Grundkurs G2
DESCRIPTION:\n\n\nTermine\nG1 – Montag\, 10.09.2018\, 19:00 – 21:00G2 – Montag\, 24.09.2018\, 19:00 – 21:00G3 – Montag\, 01.10.2018\, 19:00 – 21:00\n\n\nAdresse\n1210 Wien\, Pfarre Donaufeld\, Kinzer Platz 19\, großer Seelsorgeraum\n\n\nVeranstalter\nIINER\n\n\nAuskunft\nFam. Weinlich Tel.:01 272 13 52\, E-Mail:inerwien@hotmail.com\n\n\nReferent(en)\nElisabeth und Josef Weinlich\n\n\nBesonderes\nAnmeldung erfolderlich\, Kursbeitrag: €60\,00 pro Person\, €70\,00 pro Paar\, inkl. umfangreiche Kursunterlagen und Buch\n\n\n\n
URL:http://www.xn--empfngnis-y2a.com/veranstaltung/1210-ner-grundkurs-g1-copy/
LOCATION:Kinzer Platz 19\, Wien\, 1210\, Österreich
GEO:48.2523957;16.4079659
X-APPLE-STRUCTURED-LOCATION;VALUE=URI;X-ADDRESS=Kinzer Platz 19 Wien 1210 Österreich;X-APPLE-RADIUS=500;X-TITLE=Kinzer Platz 19:geo:16.4079659,48.2523957
END:VEVENT
END:VCALENDAR