BEGIN:VCALENDAR
VERSION:2.0
PRODID:-//empfängnis.com - ECPv4.6.2//NONSGML v1.0//EN
CALSCALE:GREGORIAN
METHOD:PUBLISH
X-WR-CALNAME:empfängnis.com
X-ORIGINAL-URL:http://www.xn--empfngnis-y2a.com
X-WR-CALDESC:Events for empfängnis.com
BEGIN:VEVENT
DTSTART;TZID=Europe/Berlin:20190424T160000
DTEND;TZID=Europe/Berlin:20190424T200000
DTSTAMP:20260420T180356
CREATED:20190409T101411Z
LAST-MODIFIED:20190409T101447Z
UID:2433-1556121600-1556136000@www.xn--empfngnis-y2a.com
SUMMARY:1150 Wien Grundkurs NER in 2 Teilen
DESCRIPTION:\n\n\nGrundkurs in 2 Teilen\n\n\nTermine\nG1 – Freitag\, 26.04.2019\, 16:00 – 20:00  G2 – Samstag\, 15.06.2019\, 10:00 – 14:00\n\n\nAdresse\n1150 Wien\, Gebrüder-Langg. 7\n\n\nVeranstalter\nTeam Betlehem – Jüngergemeinschaft\n\n\nAuskunft\ndorissz@gmx.at\n\n\nTelefon\n0664 / 846 46 44\n\n\nReferent(en)\nSzedlacek Doris & Michael\n\n\nBesonderes\nNER-Grundkursbuch von Prof. Rötzer erforderlich; Kosten € 20\,60\nKursbeitrag: freiwillige Spende erbeten\nAnmeldung bis 21.4.2019 erforderlich!\n\n\n\n
URL:http://www.xn--empfngnis-y2a.com/veranstaltung/1150-wien-grundkurs-ner-in2-teilen/
LOCATION:Gebrüder-Langgasse 7\, Wien 1150\, 1150\, Österreich
END:VEVENT
END:VCALENDAR