BEGIN:VCALENDAR
VERSION:2.0
PRODID:-//empfängnis.com - ECPv4.6.2//NONSGML v1.0//EN
CALSCALE:GREGORIAN
METHOD:PUBLISH
X-WR-CALNAME:empfängnis.com
X-ORIGINAL-URL:http://www.xn--empfngnis-y2a.com
X-WR-CALDESC:Events for empfängnis.com
BEGIN:VEVENT
DTSTART;TZID=Europe/Berlin:20210612T150000
DTEND;TZID=Europe/Berlin:20210612T210000
DTSTAMP:20260419T235537
CREATED:20210517T080334Z
LAST-MODIFIED:20210517T080443Z
UID:2760-1623510000-1623531600@www.xn--empfngnis-y2a.com
SUMMARY:1020 Wien\, NER Grundkurs  G2
DESCRIPTION:\n\n\nGrundkurs\n\n\nTermine\nG1 – Samstag\, 05.06.2021\, 19:00 – 21:00G2 – Samstag\, 12.06.2021\, 19:00 – 21:00G3 – Samstag\, 19.06.2021\, 19:00 – 21:00\n\n\nAdresse\n1020 Wien\, Walcherstrasse 13A\n\n\nVeranstalter\nSarah Ellensohn\n\n\nAuskunft\nSarah Ellensohn\nFanny-Mintz-Gasse 2\n1020 WienEmail: ellensohnsarah@gmail.com\nTel.: +43 670 20 44 440\n\n\nTelefon\n+43 670 20 44 440\n\n\nE-Mail\nellensohnsarah@gmail.com\n\n\nReferent(en)\nSarah Ellensohn\n\n\nBesonderes\nBitte um Anmeldung per Mail unter:\nellensohnsarah@gmail.comKursbeitrag: 80€ pro Person / 99€ für Paare\n\n\n\n
URL:http://www.xn--empfngnis-y2a.com/veranstaltung/1020-wien-ner-grundkurs-copy/
LOCATION:Walcherstrasse 13A\, Wien\, 1020\, Österreich
END:VEVENT
END:VCALENDAR