BEGIN:VCALENDAR
VERSION:2.0
PRODID:-//empfängnis.com - ECPv4.6.2//NONSGML v1.0//EN
CALSCALE:GREGORIAN
METHOD:PUBLISH
X-WR-CALNAME:empfängnis.com
X-ORIGINAL-URL:http://www.xn--empfngnis-y2a.com
X-WR-CALDESC:Events for empfängnis.com
BEGIN:VEVENT
DTSTART;TZID=Europe/Berlin:20171102T190000
DTEND;TZID=Europe/Berlin:20171102T210000
DTSTAMP:20260421T152040
CREATED:20171021T124702Z
LAST-MODIFIED:20171021T124752Z
UID:1960-1509649200-1509656400@www.xn--empfngnis-y2a.com
SUMMARY:1010 Wien\, NER Grundkurs G2
DESCRIPTION:\n\n\nKursart\nGrundkurs in drei Teilen\n\n\nTermine\nG1 – Donnerstag\, 19.10.2017\, 19:00 – 21:00G2 – Donnerstag\, 02.11.2017\, 19:00 – 21:00G3 – Donnerstag\, 16.11.2017\, 19:00 – 21:00\n\n\nAdresse\n1010 Wien\, Café Caspar Grillparzerstraße 6\n\n\nVeranstalter\nNatürlich Frau sein\n\n\nAuskunft\nund Anmeldung unter info@natuerlichfrausein.at\n\n\nTelefon\n0677 / 623 723 62\n\n\nE-Mail\ninfo@natuerlichfrausein.at\n\n\nReferent(en)\nNicoletta-Maria Wolfsbauer\n\n\n\n\n\n\n\n
URL:http://www.xn--empfngnis-y2a.com/veranstaltung/1010-wien-ner-grundkurs/
LOCATION:Grillparzerstraße 6\, Wien\, 1010\, Österreich
GEO:48.2126564;16.3581608
X-APPLE-STRUCTURED-LOCATION;VALUE=URI;X-ADDRESS=Grillparzerstraße 6 Wien 1010 Österreich;X-APPLE-RADIUS=500;X-TITLE=Grillparzerstraße 6:geo:16.3581608,48.2126564
END:VEVENT
END:VCALENDAR